BEGIN:VCALENDAR
VERSION:2.0
PRODID:Quicksite
NAME:Calendrier
X-WR-CALNAME:Calendrier
REFRESH-INTERVAL;VALUE=DURATION:PT240M
X-PUBLISHED-TTL:PT240M
BEGIN:VEVENT
UID:69e75a7d3fdd3
SUMMARY:Le Poste mobile - La Gendarmerie à votre porte
DESCRIPTION:
LOCATION:Devant l'épicerie - le matin
DTSTART:20260506
DTSTAMP:20260421T095915Z
END:VEVENT
END:VCALENDAR